BEGIN:VCALENDAR
VERSION:2.0
PRODID:-//LIV - ECPv6.8.2//NONSGML v1.0//EN
CALSCALE:GREGORIAN
METHOD:PUBLISH
X-ORIGINAL-URL:https://www.dachdecker-westfalen.de
X-WR-CALDESC:Veranstaltungen für LIV
REFRESH-INTERVAL;VALUE=DURATION:PT1H
X-Robots-Tag:noindex
X-PUBLISHED-TTL:PT1H
BEGIN:VTIMEZONE
TZID:Europe/Berlin
BEGIN:DAYLIGHT
TZOFFSETFROM:+0100
TZOFFSETTO:+0200
TZNAME:CEST
DTSTART:20200329T010000
END:DAYLIGHT
BEGIN:STANDARD
TZOFFSETFROM:+0200
TZOFFSETTO:+0100
TZNAME:CET
DTSTART:20201025T010000
END:STANDARD
END:VTIMEZONE
BEGIN:VEVENT
DTSTART;VALUE=DATE:20200305
DTEND;VALUE=DATE:20200307
DTSTAMP:20260424T031307
CREATED:20200226T085245Z
LAST-MODIFIED:20200226T085658Z
UID:10000225-1583366400-1583539199@www.dachdecker-westfalen.de
SUMMARY:Westfälische Dachtage 2020 Nr. 015
DESCRIPTION:Programm Westfälische Dachtage 2020\nDonnerstag\, 5. März 2020\n\n\n\nUhrzeit\nThema / Referent\n\n\nab 09.00 Uhr\nKaffee und Brötchen für die eintreffenden Tagungsteilnehmer\n\n\n09.30 Uhr\nBegrüßung und Eröffnung der Westfälischen Dachtage 2019\nLandesinnungsmeister Karl-Heinz Ester\, Hagen\nStephan Kersting\, Bürgermeister der Gemeinde Eslohe\n\n\n\nAnschließend Ehrung: Jan Renneberg – Landessieger im praktischen Leistungswettbewerb des Deutschen Handwerks (PLW)\n\n\n10.00 – 11.00 Uhr\n“Die neue Meister-Autorität beleben oder Handwerker\, mach Dich mal groß!”\nReferent: Uwe Engelhardt\, Unternehmensberatung ErfolgsMeisterei\, Tutzingen\n\n\n11.00 – 11.25 Uhr\nKaffeepause\n\n\n11.25 – 12.30 Uhr\n“Mit (Bauch)gefühl mangelhafte Ausführungen und Bauschäden vermeiden” – Wann der Dachdecker die Alarmglocken hören sollte!\nReferent: Herbert Gärtner\, Dachdeckermeister\, ö.b.u.v. Sachverständiger im Dachdeckerhandwerk\, Thermograf und Schimmelexperte\, Rüscheid\n\n\n12.30 – 13.30 Uhr\nMittagspause\n\n\n13.30 – 14.30 Uhr\n“Die angemessene und richtige Reaktion des Arbeitgebers auf das Verhalten von auf Blaumachern”\nReferent: Dr. Jörn Hülsemann\, Rechtsanwalt\, Fachanwalt für Arbeitsrecht\, Hameln\n\n\n14.30- 15.15 Uhr\n“Blauteam\, BIM und BER – Möglichkeiten und Grenzen des mängelreduzierten Bauens in Deutschland”\nReferent: Dipl.-Ing. Architekt Viktor Nachtigall\, Plankonzept Nachtigall\, Hamm\n\n\n15.15 – 15.35 Uhr\nKaffeepause\n\n\n15.35 – 16.30 Uhr\n“Dem Stress das Handwerk legen!” – Stressmanagement und Kraftpausen für Unternehmer im Handwerk\nReferent: Thomas Sauer\, Verhaltenstrainer\, Mainz\n\n\nab 19.00 Uhr\nBegrüßungsabend im “Schafstall”\, Gasthaus Domschänke\nBrauhaus Stötzel\, St. Rochus-Weg 1a\, 59889 Eslohe (nur mit Voranmeldung)\n\n\n\nFreitag\, 6. März 2020 \n\n\n\nUhrzeit\nThema / Referent\n\n\n9.00 – 10.00 Uhr\n“Grün als zukünftiger Hygienfaktor: Der Einsatz von unbedenklichen und umweltfreundlichen Flüssigkunststoffen im Dachdeckerhandwerk”\nReferent: Gerrit Christiansen\, ELAPRO Gmbh & Co KG\, Wolfsburg\n\n\n10:00 – 10.45 Uhr\n“Nur Geld schafft keine Lust auf Leistung! – Wissen\, was Mitarbeiter bewegt und neue anzieht”\nReferentin: Burga Warrings\, Unternehmensberatung ErfolgsMeisterei\, Tutzingen\n\n\n10.45 – 11.15 Uhr\nKaffeepause\n\n\n11.15 – 12.15 Uhr\n“Rundumblick – smarte digitale Werkzeuge für Büro und Baustelle aus und für die Praxis”\nReferent: Michael Heil\, Geschäftsführer\, eBusiness-KompetenzZentrum für Planen und Bauen\, Kaiserslautern\n\n\n12.15 – 13.00 Uhr\n“Fachregel-Update: Die neuen Hinweise für Außenwandbekleidungen”\, Ausgabe November 2019\nReferent: Jürgen Gerbens\, DDM und Geschäftsführer\, GFW-Dach mbH\, Eslohe\n\n\nAnschließend\nMittagsimbiss
URL:https://www.dachdecker-westfalen.de/veranstaltung/westfaelische-dachtage-2020-nr-015/
LOCATION:Schützenhalle Eslohe\, Hauptstraße 65a\, Eslohe\, 59889
CATEGORIES:Fortbildung/Seminare
END:VEVENT
BEGIN:VEVENT
DTSTART;VALUE=DATE:20200305
DTEND;VALUE=DATE:20200307
DTSTAMP:20260424T031307
CREATED:20190918T102650Z
LAST-MODIFIED:20190918T102702Z
UID:10000142-1583366400-1583539199@www.dachdecker-westfalen.de
SUMMARY:Westfälische Dachtage
DESCRIPTION:
URL:https://www.dachdecker-westfalen.de/veranstaltung/westfaelische-dachtage/
LOCATION:Schützenhalle Eslohe\, Hauptstraße 65a\, Eslohe\, 59889
CATEGORIES:Termine Innungsverband
END:VEVENT
END:VCALENDAR